Workbook

Sheet Page-Level Metrics
A1: TWITTER
A2: Month | B2: Total Followers | C2: % Follower Change | D2: Total Profile Visits | E2: % Profile Visit Change | F2: Total Impressions | G2: Total Posts Published | H2: Average Engagement Rate | I2: Average Click-Through Rate | J2: Mentions
A3: June | B3: 1469 | C3: N/A | D3: 2890 | E3: N/A | F3: 20800 | G3: 12 | H3: N/A | I3: N/A | J3: 18
A4: July | B4: 1472 | C4: =(B4-B3)/B3 -> 0.0020422056 | D4: 5331 | E4: =(D4-D3)/D3 -> 0.84463668 | F4: 24900 | G4: 12 | H4: =AVERAGE('Post-Level Metrics_TW'!H2:'Post-Level Metrics_TW'!H13) -> 0.023355158 | I4: =AVERAGE('Post-Level Metrics_TW'!J4,'Post-Level Metrics_TW'!J5,'Post-Level Metrics_TW'!J7,'Post-Level Metrics_TW'!J9,'Post-Level Metrics_TW'!J11,'Post-Level Metrics_TW'!J12) -> 0.0018419454 | J4: 14
A5: August | B5: 1485 | C5: =(B5-B4)/B4 -> 0.0088315217 | D5: 3290 | E5: =(D5-D4)/D4 -> -0.382855 | F5: 18200 | G5: 12 | H5: =AVERAGE('Post-Level Metrics_TW'!H14:'Post-Level Metrics_TW'!H25) -> 0.034669083 | I5: =AVERAGE('Post-Level Metrics_TW'!J14:'Post-Level Metrics_TW'!J15:'Post-Level Metrics_TW'!J17:'Post-Level Metrics_TW'!J18:'Post-Level Metrics_TW'!J19:'Post-Level Metrics_TW'!J20:'Post-Level Metrics_TW'!J25) -> 0.0043949026 | J5: 14
A6: September | B6: 1561 | C6: =(B6-B5)/B5 -> 0.051178451 | D6: 7270 | E6: =(D6-D5)/D5 -> 1.2097264 | F6: 29900 | G6: 28 | H6: =AVERAGE('Post-Level Metrics_TW'!H26:'Post-Level Metrics_TW'!H53) -> 0.045107312 | I6: =AVERAGE('Post-Level Metrics_TW'!J26,'Post-Level Metrics_TW'!J27,'Post-Level Metrics_TW'!J28,'Post-Level Metrics_TW'!J29,'Post-Level Metrics_TW'!J34,'Post-Level Metrics_TW'!J39,'Post-Level Metrics_TW'!J40,'Post-Level Metrics_TW'!J42,'Post-Level Metrics_TW'!J47,'Post-Level Metrics_TW'!J48,'Post-Level Metrics_TW'!J49) -> 0.0066289183 | J6: 30
A7: October | B7: 1591 | C7: =(B7-B6)/B6 -> 0.01921845 | D7: 11500 | E7: =(D7-D6)/D6 -> 0.58184319 | F7: 42000 | G7: 48 | H7: =AVERAGE('Post-Level Metrics_TW'!H54:'Post-Level Metrics_TW'!H101) -> 0.034316729 | I7: =AVERAGE('Post-Level Metrics_TW'!J56,'Post-Level Metrics_TW'!J60,'Post-Level Metrics_TW'!J82,'Post-Level Metrics_TW'!J83,'Post-Level Metrics_TW'!J85,'Post-Level Metrics_TW'!J89,'Post-Level Metrics_TW'!J93,'Post-Level Metrics_TW'!J94) -> 0.0076428156 | J7: 37
A9: FACEBOOK
A10: Month | B10: Total Followers | C10: % Follower Change | D10: Total Page Visits | E10: % Page Visit Change | F10: Total Impressions | G10: Total Posts Published | H10: Average Engagement Rate | I10: Average Click-Through Rate
A11: June | B11: 412 | C11: N/A | D11: 273 | E11: N/A | F11: 2872 | G11: 11 | H11: N/A | I11: N/A
A12: July | B12: 420 | C12: =(B12-B11)/B11 -> 0.019417476 | D12: 83 | E12: =(D12-D11)/D11 -> -0.6959707 | F12: 974 | G12: 2 | H12: =AVERAGE('Post-Level Metrics_FB'!H2:'Post-Level Metrics_FB'!H3) -> 0.13710459 | I12: N/A
A13: August | B13: 425 | C13: =(B13-B12)/B12 -> 0.011904762 | D13: 82 | E13: =(D13-D12)/D12 -> -0.012048193 | F13: 1957 | G13: 4 | H13: =AVERAGE('Post-Level Metrics_FB'!H4:'Post-Level Metrics_FB'!H7) -> 0.096639897 | I13: =AVERAGE('Post-Level Metrics_FB'!J4:'Post-Level Metrics_FB'!J5) -> 0.0057803468
A14: September | B14: 434 | C14: =(B14-B13)/B13 -> 0.021176471 | D14: 147 | E14: =(D14-D13)/D13 -> 0.79268293 | F14: 3195 | G14: 5 | H14: =AVERAGE('Post-Level Metrics_FB'!H8:'Post-Level Metrics_FB'!H12) -> 0.1542 | I14: =AVERAGE('Post-Level Metrics_FB'!J11) -> 0.0038167939
A15: October | B15: 445 | C15: =(B15-B14)/B14 -> 0.025345622 | D15: 234 | E15: =(D15-D14)/D14 -> 0.59183673 | F15: 4049 | G15: 10 | H15: =AVERAGE('Post-Level Metrics_FB'!H13:'Post-Level Metrics_FB'!H22) -> 0.17652 | I15: =AVERAGE('Post-Level Metrics_FB'!J16,'Post-Level Metrics_FB'!J19,'Post-Level Metrics_FB'!J21,'Post-Level Metrics_FB'!J22) -> 0.021972483
A17: INSTAGRAM
A18: Month | B18: Total Followers | C18: % Follower Change | D18: Total Page/Profile Visits | E18: % Page/Profile Visit Change | F18: Page Reach | G18: Total Posts Published | H18: Average Engagement Rate | I18: Average Click-Through Rate
A19: June | B19: Data unavailable | C19: Data unavailable | D19: Data unavailable | E19: Data unavailable | F19: 2544 | G19: 7 | H19: N/A | I19: N/A
A20: July | B20: Data unavailable | C20: Data unavailable | D20: Data unavailable | E20: Data unavailable | F20: 714 | G20: 0 | H20: 0 | I20: N/A
A21: August | B21: 667 | C21: Data unavailable | D21: Data unavailable | E21: Data unavailable | F21: 2679 | G21: 2 | H21: =AVERAGE('Post-Level Metrics_IG'!H2:'Post-Level Metrics_IG'!H3) -> 0.19665 | I21: N/A
A22: September | B22: 672 | C22: =(B22-B21)/B21 -> 0.0074962519 | D22: Data unavailable | E22: Data unavailable | F22: 2172 | G22: 9 | H22: =AVERAGE('Post-Level Metrics_IG'!H4:'Post-Level Metrics_IG'!H12) -> 0.12068889 | I22: N/A
A23: October | B23: 689 | C23: =(B23-B22)/B22 -> 0.025297619 | D23: Data unavailable | E23: Data unavailable | F23: 2521 | G23: 12 | H23: =AVERAGE('Post-Level Metrics_IG'!H13:'Post-Level Metrics_IG'!H24) -> 0.10146667 | I23: N/A
A25: LINKEDIN
A26: Month | B26: Total Followers | C26: % Follower Change | D26: Total Page Views | E26: % Page View Change | F26: Total Impressions | G26: Total Posts Published | H26: Average Engagement Rate | I26: Average Click-Through Rate
A27: June | B27: 303 | C27: N/A | D27: 63 | E27: N/A | F27: 9344 | G27: 6 | H27: N/A | I27: N/A
A28: July | B28: 314 | C28: =(B28-B27)/B27 -> 0.03630363 | D28: 12 | E28: =(D28/D27)/D27 -> 0.0030234316 | F28: 2802 | G28: 0 | H28: 0 | I28: 0
A29: August | B29: 319 | C29: =(B29-B28)/B28 -> 0.015923567 | D29: 51 | E29: =(D29/D28)/D28 -> 0.35416667 | F29: 651 | G29: 2 | H29: =AVERAGE('Post-Level Metrics_LI'!H2:'Post-Level Metrics_LI'!H3) -> 0.093924505 | I29: =AVERAGE('Post-Level Metrics_LI'!J2:'Post-Level Metrics_LI'!J3) -> 0.05612971
A30: September | B30: 330 | C30: =(B30-B29)/B29 -> 0.034482759 | D30: 100 | E30: =(D30/D29)/D29 -> 0.038446751 | F30: 11222 | G30: 14 | H30: =AVERAGE('Post-Level Metrics_LI'!H4:'Post-Level Metrics_LI'!H17) -> 0.065472022 | I30: =AVERAGE('Post-Level Metrics_LI'!J4:'Post-Level Metrics_LI'!J17) -> 0.026539164
A31: October | B31: 364 | C31: =(B31-B30)/B30 -> 0.1030303 | D31: 282 | E31: =(D31/D30)/D30 -> 0.0282 | F31: 21220 | G31: 28 | H31: =AVERAGE('Post-Level Metrics_LI'!H18:'Post-Level Metrics_LI'!H45) -> 0.069584542 | I31: =AVERAGE('Post-Level Metrics_LI'!J18:'Post-Level Metrics_LI'!J45) -> 0.033022123

Sheet Post-Level Metrics_TW
A1: Date | B1: URL Link | C1: Copy | D1: Post Type | E1: Post Topic | F1: Impressions | G1: Engagements | H1: Engagement Rate | I1: Link Clicks | J1: Click-Through Rate | K1: Shares
A2: 44378.758 | B2: https://twitter.com/UFPRDepartment/status/1410662319269416962 | C2: Congratulations to Adjunct Prof. Linda Rutherford (@SWAfollower) for being named the Executive Vice President of People &amp; Communications at @SouthwestAir and expanding her role as Chief Communications Officer! üéâ We‚Äôre so proud of everything you've achieved!üêä | D2: Text | E2: Faculty | F2: 518 | G2: 17 | H2: 0.032818533 | I2: N/A | J2: N/A | K2: 0
A3: 44383.897 | B3: https://twitter.com/UFPRDepartment/status/1412524903933394954 | C3: Congratulations, Dr. Lee! We wish you all the best in your new role. üéâ https://t.co/q6swbTe2my | D3: Quote Tweet | E3: Faculty | F3: 871 | G3: 20 | H3: 0.022962113 | I3: N/A | J3: N/A | K3: 0
A4: 44386.774 | B4: https://twitter.com/UFPRDepartment/status/1413567533282729986 | C4: Congrats to our former Advisory Council member and @RoyalCaribbean Global CCO Rosanna Fiske (@Fiskey) for being honored as Pioneer of the Year at the 2021 @HPRAUSA National ¬°Bravo! Awards! üôå‚Ä®‚Ä®What an amazing achievement! #GoGators üêä‚Ä®‚Ä®Read more: https://t.co/6lnoCq5TRb | D4: Link | E4: Faculty | F4: 1144 | G4: 51 | H4: 0.04458042 | I4: 5 | J4: =I4/F4 -> 0.0043706294 | K4: 3
A5: 44390.803 | B5: https://twitter.com/UFPRDepartment/status/1415027287280390144 | C5: Congrats to our Advisory Council members @IPGDXTRA CEO @andypolansky and @GeneralMills CCO @janocabrera for being featured in the 2021 @PRWeekUS Power List! We're so proud of everyone who was recognized as the 50 most influential communicators! üéâ https://t.co/fbDH39Ev0F | D5: Link | E5: Faculty | F5: 1454 | G5: 19 | H5: 0.0130674 | I5: 1 | J5: =I5/F5 -> 0.00068775791 | K5: 1
A6: 44390.805 | B6: https://twitter.com/UFPRDepartment/status/1415028063553810432 | C6: It's great to see many of our past guest speakers honored this year as the best players in the PR industry! A big congrats to @StaceyTank of @Heineken, Chris Foster of @Omnicom, Jerilan Greene of @yumbrands, K. Corley Kenna (@Kckenna) of @patagonia and @LisaRossDC of @EdelmanPR! https://t.co/rEtcJq1P69 | D6: Quote Tweet | E6: Program Courses | F6: 948 | G6: 34 | H6: 0.035864979 | I6: N/A | J6: N/A | K6: 0
A7: 44391.608 | B7: https://twitter.com/UFPRDepartment/status/1415319302404665357 | C7: Join the @AEJMC_PRD at its upcoming panel to remember three innovative communicators and recognize the industry impact of one of our own, Dr. Kathleen Kelly. Register here: https://t.co/d1BTrAFMgb https://t.co/0iYOlxs40Q | D7: Quote Tweet and Link | E7: Faculty | F7: 1004 | G7: 11 | H7: 0.010956175 | I7: 1 | J7: =I7/F7 -> 0.00099601594 | K7: 1
A8: 44391.672 | B8: https://twitter.com/UFPRDepartment/status/1415342409148338182 | C8: We are deeply saddened by the recent loss of Dr. Jay Rayburn, associate professor at @FSU_COM from 1985-2020. He was a dedicated communicator who left a lasting impact on the industry and many generations of PR students across Florida. https://t.co/n1nQWFKrN4 | D8: Quote Tweet | E8: Other | F8: 2056 | G8: 30 | H8: 0.01459144 | I8: N/A | J8: N/A | K8: 1
A9: 44392.665 | B9: https://twitter.com/UFPRDepartment/status/1415702414112395269 | C9: Congrats to Dr. @pamproverbs for getting published in the @JournalofPIC with her co-authors Dr. @xiaomen, Ph.D. student @oalbishri &amp; Executive Associate Dean Dr. @skiousis! Their research focuses on applying care in crisis communication. üéâ Read more: https://t.co/3NhzYE9IOi | D9: Link | E9: Faculty | F9: 903 | G9: 15 | H9: 0.016611296 | I9: 1 | J9: =I9/F9 -> 0.0011074197 | K9: 3
A10: 44396.679 | B10: https://twitter.com/UFPRDepartment/status/1417156871463526401 | C10: Do you work in social media? Help us understand the field for a report we are working on with @InstituteForPR and @RaganComms https://t.co/XdUPxKQJXg | D10: Quote Tweet | E10: Other | F10: 1762 | G10: 20 | H10: 0.011350738 | I10: N/A | J10: N/A | K10: 0
A11: 44397.595 | B11: https://twitter.com/UFPRDepartment/status/1417488937489027072 | C11: Doctoral student Hayley Markovich (@h_markovich) authored a recently published chapter about understanding presentations of mental health in two Pixar films through communication theory of identity. üôå Check it out here: https://t.co/FPfKeDGa1u | D11: Link | E11: Other | F11: 591 | G11: 13 | H11: 0.021996616 | I11: 1 | J11: =I11/F11 -> 0.0016920474 | K11: 0
A12: 44404.73 | B12: https://twitter.com/UFPRDepartment/status/1420074382219628546 | C12: Congrats to the rising stars honored in the 2021 @PRWeekUS 40 Under 40! We're so happy to see our past guest speaker and @Omnicom Chief Equity &amp; Impact Officer Emily Graham (@EmKGraham) get recognized as a bright leader in the PR industry!üôå Check it out: https://t.co/6gD9SapNKs | D12: Link | E12: Program Courses | F12: 455 | G12: 17 | H12: 0.037362637 | I12: 1 | J12: =I12/F12 -> 0.0021978022 | K12: 0
A13: 44405.881 | B13: https://twitter.com/UFPRDepartment/status/1420491372268724225 | C13: A huge congratulations to @NatalieAsorey who was honored today at the @PRNews Virtual Awards Gala as a Top Woman in PR Rising Star! We're so proud of you! ü§© https://t.co/yXLru6lTlx | D13: Photo | E13: Faculty | F13: 8619 | G13: 156 | H13: 0.018099548 | I13: N/A | J13: N/A | K13: 9
A14: 44410.887 | B14: https://twitter.com/UFPRDepartment/status/1422305567436009472 | C14: Doctoral student Hayley Markovich (@h_markovich) explored how news coverage impacted the 2016 EpiPen crisis in her article that was recently published in the @JournalofPIC! üí´ Check it out here: https://t.co/3xfuK6nSed | D14: Link | E14: Other | F14: 728 | G14: 19 | H14: 0.026098901 | I14: 4 | J14: =I14/F14 -> 0.0054945055 | K14: 1
A15: 44411.565 | B15: https://twitter.com/UFPRDepartment/status/1422551439738478594 | C15: Dr. Carma Bylund (@BylundCarma) co-authored the article ‚ÄúHow to Talk to Patients About the COVID Vaccine‚Äù published on @medpagetoday, alongside Dr. Lindsay Thompson (@lindsay_lathom) and Dr. @StephanieStaras! üëè Check it out here: https://t.co/sZFNiwGzHW | D15: Link | E15: Faculty | F15: 471 | G15: 3 | H15: 0.0063694268 | I15: 0 | J15: =I15/F15 -> 0 | K15: 0
A16: 44412.859 | B16: https://twitter.com/UFPRDepartment/status/1423020300858396673 | C16: Good luck to the winners and panelists presenting at the #AEJMC21 Annual Conference this week! A big congratulations to all the #PRprofs presenting in the @AEJMC_PRD! üèÜ | D16: Text | E16: Other | F16: 623 | G16: 14 | H16: 0.02247191 | I16: N/A | J16: N/A | K16: 0
A17: 44414.656 | B17: https://twitter.com/UFPRDepartment/status/1423671645789556738 | C17: We are looking for social media interns to work with UF Alumni Gator Clubs this fall! Through this online course, students can earn elective credits and valuable social media experience. üêä‚ú® For more information, please visit: https://t.co/DHGxHZoQ89 https://t.co/TnnWO0B0jL | D17: Photo and Link | E17: Student Engagement | F17: 1410 | G17: 32 | H17: 0.022695035 | I17: 3 | J17: =I17/F17 -> 0.0021276596 | K17: 2
A18: 44420.893 | B18: https://twitter.com/UFPRDepartment/status/1425931829136084993 | C18: We are looking for a PR student assistant to join our team this fall! Duties range from content creation to event planning. Applications are due August 30 and can be found here: https://t.co/qsEOtXfunf https://t.co/Aa50yHVFfQ | D18: Photo and Link | E18: Student Engagement | F18: 1760 | G18: 86 | H18: 0.048863636 | I18: 12 | J18: =I18/F18 -> 0.0068181818 | K18: 4
A19: 44424.647 | B19: https://twitter.com/UFPRDepartment/status/1427292100236693506 | C19: Professor Ann Christiano (@aechristiano), director of the UF Center for Public Interest Communications, was featured in the ‚ÄúUnderstanding Vaccine Hesitancy" radio broadcast on @wmfeorlando. Check it out here: https://t.co/XwpgxNjWtJ | D19: Link | E19: Faculty | F19: 726 | G19: 12 | H19: 0.016528926 | I19: 2 | J19: =I19/F19 -> 0.0027548209 | K19: 1
A20: 44425.65 | B20: https://twitter.com/UFPRDepartment/status/1427655504604532736 | C20: Don't miss out on the first segment of The @LAGRANTFoundatn Leadership Legacy Seminar Series featuring @Omnicom CEO Chris Foster on Sept. 13! Find more information about this great opportunity below and visit https://t.co/Jpt9O5Xhsv! https://t.co/eHUjyNQ2Nb | D20: Photo and Link | E20: Other | F20: 1029 | G20: 34 | H20: 0.033041788 | I20: 4 | J20: =I20/F20 -> 0.0038872692 | K20: 2
A21: 44426.579 | B21: https://twitter.com/UFPRDepartment/status/1427992250018004994 | C21: Congrats to @ufprssa and its student members for being awarded the 2021 Star Chapter Award by @PRSSANational! The UF PRSSA Alpha Chapter was nationally recognized for its outstanding leadership and programming ‚Å†‚Äî for the second year in a row and fourth time overall! Go Gators!‚≠êÔ∏è https://t.co/LFp0YTkk09 | D21: Photo | E21: Student Engagement | F21: 1041 | G21: 37 | H21: 0.035542747 | I21: N/A | J21: N/A | K21: 0
A22: 44426.599 | B22: https://twitter.com/UFPRDepartment/status/1427999481266532366 | C22: A big congrats to PR graduates Kailey Kiss (@KaileyKiss) and Macayla Bricarell (@Macaylakey) for winning National Gold Key Awards from @PRSSANational! They were recognized for their outstanding leadership and received the highest individual honor bestowed upon PRSSA members. üôå | D22: Text | E22: Other | F22: 1869 | G22: 45 | H22: 0.024077047 | I22: N/A | J22: N/A | K22: 2
A23: 44431.727 | B23: https://twitter.com/UFPRDepartment/status/1429857784405762071 | C23: Welcome back, Gators! We are so happy to have you back on campus. Dr. D is here to answer a few important questions. Check out the link in our bio for more information and email us (pur-asst@jou.ufl.edu) if you have any questions (&amp; follow us on TikTok üòâ). #GoGators! üêä https://t.co/Q6Ot50bQTc | D23: Video | E23: Other | F23: 1182 | G23: 82 | H23: 0.069373942 | I23: N/A | J23: N/A | K23: 3
A24: 44438.613 | B24: https://twitter.com/UFPRDepartment/status/1432353204260376590 | C24: Introducing the 2021-2022 Bateman Team! Led by Professor Leticia Solaun, Nicholas Suriel, Arianna Meekins, Blair Colson, Jessica Martinez &amp; Alyssa Wiles were selected to compete in the @PRSSANational Bateman Case Study Competition. Congratulations, and best of luck! #GoGatorsüêä https://t.co/ezCNnnUicc | D24: Photo | E24: Student Engagement | F24: 2117 | G24: 150 | H24: 0.070854983 | I24: N/A | J24: N/A | K24: 3
A25: 44439.799 | B25: https://twitter.com/UFPRDepartment/status/1432782770258923520 | C25: Dr. DiStaso (@mdistaso) was featured in a new @PRWeeKUS article, where she discussed the effects of COVID-19 on higher education and new initiatives at the @UFJSchool, including a New York City extension position held by @NatalieAsorey. Check it out: https://t.co/XBpHMDXSxx | D25: Link | E25: Faculty | F25: 723 | G25: 29 | H25: 0.04011065 | I25: 7 | J25: =I25/F25 -> 0.0096818811 | K25: 0
A26: 44440.569 | B26: https://twitter.com/UFPRDepartment/status/1433061895108390912 | C26: Tune in for the @museumofpr's webinar to hear from former and current @ufhprsa Presidents @CataSantanaH &amp; Martina Vargas, PR Council member Deb Prieto-Green &amp; former PR Council member Rosanna Fiske (@Fiskey) at 6 p.m. on Sept. 21! Register for free here: https://t.co/CHawLReJ5U https://t.co/OaViE2r6ly | D26: Photo and Link | E26: Student Engagement | F26: 861 | G26: 18 | H26: 0.020905923 | I26: 1 | J26: =I26/F26 -> 0.0011614402 | K26: 2
A27: 44442.65 | B27: https://twitter.com/UFPRDepartment/status/1433816214522957864 | C27: Meet the UF Public Relations Department! Everywhere you look, our faculty and staff members are here to lend a helping hand. We‚Äôre so happy to have you all back on campus! Missing Dr. Mary Ann Ferguson, Dr. Rita Men and Professor Vanessa Wakeman. https://t.co/78BqVgPcsr | D27: Video | E27: Faculty | F27: 2879 | G27: 270 | H27: 0.093782563 | I27: 2 | J27: =I27/F27 -> 0.00069468565 | K27: 7
A28: 44447.557 | B28: https://twitter.com/UFPRDepartment/status/1435594268219904012 | C28: CJC Student Involvement Day is finally here! Join us TODAY in the Weimer Hall atrium from 11 a.m. to 3 p.m. and learn more about the student organizations in the @UFJSchool. Stick around for free food and fun prizes! Check it out here: https://t.co/cxIAXdeNwa | D28: Link | E28: Student Engagement | F28: 167 | G28: 3 | H28: 0.017964072 | I28: 2 | J28: =I28/F28 -> 0.011976048 | K28: 0
A29: 44448.549 | B29: https://twitter.com/UFPRDepartment/status/1435954122038022145 | C29: White House Director of African American Media @EricaLoewe46, B.S. Public Relations 2011, leads the White House‚Äôs effort to connect with the Black community and shares her @UF journey that brought her to the @WhiteHouse. üêä Read more here: https://t.co/O7Ew2ufUcS | D29: Link | E29: Other | F29: 490 | G29: 42 | H29: 0.085714286 | I29: 7 | J29: =I29/F29 -> 0.014285714 | K29: 1
A30: 44448.772 | B30: https://twitter.com/UFPRDepartment/status/1436034571473063940 | C30: Check out this dynamic duo! Dr. @MyiahHutchens has been named Associate Chair of the PR Department! Dr. Hutchens will maintain her current course load while also assisting Department Chair Dr. @MDiStaso with departmental responsibilities. Congratulations, Dr. Hutchens! #GoGators https://t.co/Ody7tEEtOI | D30: Photo | E30: Faculty | F30: 2506 | G30: 181 | H30: 0.072226656 | I30: N/A | J30: N/A | K30: 3
A31: 44448.79 | B31: https://twitter.com/UFPRDepartment/status/1436041046484406295 | C31: Recent @UF graduate Blake von Thaden (@blakevonthadenn), Digital Content Specialist at @chubbies, spoke to @mdistaso‚Äôs Principles of PR class last Thursday. Thank you, Blake, for sharing your experiences at @TBLightning and @chubbies with our students. As always, #GoGators! üêä https://t.co/tdH8QYXGBY | D31: Photo | E31: Program Courses | F31: 353 | G31: 23 | H31: 0.065155807 | I31: N/A | J31: N/A | K31: 1
A32: 44449.645 | B32: https://twitter.com/UFPRDepartment/status/1436351082712612872 | C32: Eliot Mizrachi, (@eliotmiz), Vice President of Communications and Content at @awpagesociety, spoke with @fordpat's Corporate Reputation class on Wednesday. Eliot, it‚Äôs always a pleasure to hear your expertise on the evolving role of the CCO! #GoGators https://t.co/PcwSQEvfUD | D32: Photo | E32: Program Courses | F32: 1329 | G32: 41 | H32: 0.030850263 | I32: N/A | J32: N/A | K32: 1
A33: 44452.713 | B33: https://twitter.com/UFPRDepartment/status/1437462826210115585 | C33: Cindy Jara (@_cindyjara), Digital Communications Associate at @ReachHigher, spoke to @MDiStaso‚Äôs Principles of PR class on Thursday, where she shared her experience as a recent @UF PR graduate working in nonprofits with our students. Thank you for joining us, Cindy! #GoGators https://t.co/McM96MvbxV | D33: Photo | E33: Program Courses | F33: 820 | G33: 35 | H33: 0.042682927 | I33: N/A | J33: N/A | K33: 1
A34: 44453.61 | B34: https://twitter.com/UFPRDepartment/status/1437787838460858375 | C34: Dr. Jay Hmielowski (@HmielowskiJay) and doctoral students @EveHeffron and Michael Munroe (@munroe_FL) co-authored an article published in The Social Science Journal on decreased news media trust around the country. Read more here: https://t.co/5MLgGJFpKI | D34: Link | E34: Faculty | F34: 300 | G34: 23 | H34: 0.076666667 | I34: 6 | J34: =I34/F34 -> 0.02 | K34: 2
A35: 44453.61 | B35: https://twitter.com/UFPRDepartment/status/1437787769879814145 | C35: @_cindyjara You will always be part of the UF PR family! ‚ú® | D35: Reply | E35: Other | F35: 52 | G35: 3 | H35: 0.057692308 | I35: N/A | J35: N/A | K35: 0
A36: 44453.688 | B36: https://twitter.com/UFPRDepartment/status/1437816378338131972 | C36: Yesterday @MargeteStrand, Chief of Staff at @LCVoters, joined @CommsProfAngela‚Äôs Global Social Change Comms. class to talk about her part in the movement that helped make global trade rules fair to environmental, labor &amp; other interests. Thank you for speaking with our students! https://t.co/O49yu9beRN https://t.co/DM1iHFcZOo | D36: Quote Tweet and Photo | E36: Program Courses | F36: 476 | G36: 7 | H36: 0.014705882 | I36: N/A | J36: N/A | K36: 0
A37: 44454.674 | B37: https://twitter.com/UFPRDepartment/status/1438173300073512961 | C37: Congratulations to the 2021 @PRWeekUS Hall of Fame inductees, including Jano Cabrera, CCO of @GeneralMills and @UF Public Relations Advisory Council Member! We are so grateful for Jano‚Äôs guidance and support of our department. https://t.co/tArGt4DHtO | D37: Quote Tweet | E37: Faculty | F37: 407 | G37: 6 | H37: 0.014742015 | I37: N/A | J37: N/A | K37: 0
A38: 44454.778 | B38: https://twitter.com/UFPRDepartment/status/1438211148164128771 | C38: @VanessaM_PR @GOLINglobal Congratulations, Vanessa! #GoGators | D38: Reply | E38: Other | F38: 239 | G38: 13 | H38: 0.054393305 | I38: N/A | J38: N/A | K38: 2
A39: 44454.965 | B39: https://twitter.com/UFPRDepartment/status/1438278765595987969 | C39: Today marks the beginning of #HispanicHeritageMonth! @ufhprsa President Martina Vargas, Vice President Elaina Sanchez and Director of Chapter Development @ryan_montoto came together to speak about the importance of HPRSA &amp; what this month means to them. https://t.co/OUQCNsQrQT | D39: Link | E39: Other | F39: 683 | G39: 58 | H39: 0.084919473 | I39: 2 | J39: =I39/F39 -> 0.0029282577 | K39: 3
A40: 44455.549 | B40: https://twitter.com/UFPRDepartment/status/1438490395780943874 | C40: Liani Kotcher (@RektokRoss), B.S. Public Relations 2001, authored her first survival thriller novel, "Ski Weekend." Her new book will be published by @GoSparkPress on Oct. 26 and is the 2021 Firebird Award Winner in Young Adult Fiction. Read more here: https://t.co/CslBaAXo9y | D40: Link | E40: Faculty | F40: 803 | G40: 34 | H40: 0.04234122 | I40: 6 | J40: =I40/F40 -> 0.0074719801 | K40: 2
...

Sheet Post-Level Metrics_LI
A1: Date | B1: URL Link | C1: Copy | D1: Post Type | E1: Post Topic | F1: Impressions | G1: Engagements | H1: Engagement Rate | I1: Link Clicks | J1: Click-Through Rate | K1: Shares
A2: 08/12/2021 | B2: https://www.linkedin.com/feed/update/urn:li:activity:6831696085006733312 | C2: We’re looking for a PR student assistant to join our team this fall! Duties range from content creation to event planning. Applications are due August 30 and can be found here: bit.ly/PRStudentAsst | D2: Photo and Link | E2: Student Engagement | F2: 217 | G2: 13 | H2: =G2/F2 -> 0.059907834 | I2: 10 | J2: =I2/F2 -> 0.046082949 | K2: 1
A3: 08/30/2021 | B3: https://www.linkedin.com/feed/update/urn:li:activity:6838121579373838336 | C3: Introducing the 2021-2022 Bateman Team! Led by Professor Leticia Solaun, Ph.D., Nicholas Suriel, Arianna Meekins, Blair Colson, Jessica Martinez and Alyssa Wiles were selected to compete in this year’s Public Relations Student Society of America (PRSSA) Bateman Case Study Competition. Congratulations, and best of luck to this talented group! #GoGators | D3: Photo | E3: Student Engagement | F3: 680 | G3: 87 | H3: =G3/F3 -> 0.12794118 | I3: 45 | J3: =I3/F3 -> 0.066176471 | K3: 7
A4: 09/09/2021 | B4: https://www.linkedin.com/feed/update/urn:li:activity:6841806355301462016 | C4: Recent University of Florida graduate Blake von Thaden, Digital Content Specialist at Chubbies Shorts, spoke to Marcia DiStaso, Ph.D., APR's Principles of PR class last Thursday. Thank you, Blake, for sharing your experiences at Tampa Bay Lightning and Chubbies Shorts with our students. As always, #GoGators! 🐊 | D4: Photo | E4: Other | F4: 848 | G4: 49 | H4: 0.057783019 | I4: 26 | J4: 0.030660378 | K4: 0
A5: 09/09/2021 | B5: https://www.linkedin.com/feed/update/urn:li:activity:6841819619175596032 | C5: Tune in for the Museum of Public Relations' upcoming webinar to hear from former and current UF Hispanic Public Relations Student Association Presidents Catalina Santana Hernandez and Martina Vargas, our PR Advisory Council members Deb Prieto - Green, Oscar Suris and Jano Cabrera, former Advisory Council member Rosanna Fiske, former PR Department Chair Juan-Carlos Molleda, and more inspiring Latino leaders at 6 p.m. on Sept. 21! Register for free here: http://bit.ly/MoPRHHM | D5: Photo and link | E5: Other | F5: 276 | G5: 29 | H5: 0.10507246 | I5: 10 | J5: 0.036231883 | K5: 5
A6: 09/10/2021 | B6: https://www.linkedin.com/feed/update/urn:li:activity:6842119461059735552 | C6: Eliot Mizrachi, Vice President of Communications and Content at the Page Society, spoke with Patrick Ford's Corporate Reputation class on Wednesday. Eliot, it’s always a pleasure to hear your expertise on the evolving role of the CCO! #GoGators | D6: Photo | E6: Other | F6: 351 | G6: 26 | H6: 0.074074075 | I6: 10 | J6: 0.028490029 | K6: 1
A7: 09/10/2021 | B7: https://www.linkedin.com/feed/update/urn:li:activity:6842199555333750784 | C7: Introducing our new LinkedIn series: Meet the UF Public Relations Advisory Council. Our Advisory Council members will share their experiences, anecdotes and advice with you. Our first spotlight is Jeannie Clary, Chair of the UF Public Relations Advisory Council, Consultant/Owner of J. Clary Public Relations, LLC and Adjunct at the CJC! | D7: Link | E7: Student engagement | F7: 317 | G7: 30 | H7: 0.094637223 | I7: 15 | J7: 0.047318611 | K7: 1
A8: 09/13/2021 | B8: https://www.linkedin.com/feed/update/urn:li:activity:6843229081090322432 | C8: Cindy Jara, Digital Communications Associate at Reach Higher, spoke to Marcia DiStaso, Ph.D., APR’s Principles of PR class last Thursday, where she shared her experience as a recent University of Florida PR graduate working in nonprofits with our students. Thank you for joining us, Cindy! | D8: Photo | E8: Other | F8: 1143 | G8: 87 | H8: 0.076115489 | I8: 37 | J8: 0.032370955 | K8: 0
A9: 09/14/2021 | B9: https://www.linkedin.com/feed/update/urn:li:activity:6843582751669649408 | C9: Margrete Strand Rangnes, Chief of Staff at League of Conservation Voters, joined Angela Bradbery’s Global Social Change Communications class to talk about her part in the movement that helped make global trade rules fair to environmental, labor & other interests. Thank you for speaking with our students! | D9: Photo | E9: Other | F9: 182 | G9: 6 | H9: 0.032967035 | I9: 1 | J9: 0.0054945056 | K9: 0
A10: 09/15/2021 | B10: https://www.linkedin.com/feed/update/urn:li:activity:6844049029391777792 | C10: Today marks the beginning of #HispanicHeritageMonth! UF Hispanic Public Relations Student Association President Martina Vargas, Vice President Elaina Sanchez and Director of Chapter Development Ryan Montoto came together to speak about the importance of HPRSA, the organization’s significance to the PR industry and what this month means to them. Throughout the month, the department will be featuring some of our inspiring Hispanic and Latinx student leaders, past and present, in celebration of their history and culture. | D10: Video | E10: Other | F10: 458 | G10: 40 | H10: 0.087336242 | I10: 16 | J10: 0.034934498 | K10: 5
A11: 09/16/2021 | B11: https://www.linkedin.com/feed/update/urn:li:activity:6844345175993532416 | C11: Recent University of Florida graduate Tamarra Thal, External Communications Specialist at IBM, joined Marcia DiStaso, Ph.D., APR's PR Principles class today to talk about her industry experience from agencies to nonprofits to global companies as a first-generation grad. Thank you for speaking with our students! | D11: Photo | E11: Other | F11: 1997 | G11: 134 | H11: 0.067100652 | I11: 67 | J11: 0.033550326 | K11: 0
A12: 09/20/2021 | B12: https://www.linkedin.com/feed/update/urn:li:activity:6845785777704710144 | C12: Throughout #HispanicHeritageMonth, we will be highlighting some of our powerful Hispanic and Latinx alumni and current students! First, we’re spotlighting Catalina Santana Hernandez, account coordinator at BCW Global, University of Florida College of Journalism and Communications 2021 graduate and 2020-2021 UF Hispanic Public Relations Student Association president. Catalina will be part of Museum of Public Relations’ panel “The Latino Influence and Impact on the Public Relations Profession” tomorrow, Sept. 21, at 6 p.m. Register for free to hear from her, current UF HPRSA president Martina Vargas and past and current Advisory Council members. http://bit.ly/MoPRHHM | D12: Photo and link | E12: Student engagement | F12: 212 | G12: 10 | H12: 0.047169812 | I12: 3 | J12: 0.014150944 | K12: 1
A13: 09/21/2021 | B13: https://www.linkedin.com/feed/update/urn:li:activity:6846164080730894336 | C13: Yesterday Scott Farrell, President of Global Corp. Comms. at Golin, spoke in Patrick Ford's Crisis Comms. & Corporate Rep. classes! Thank you, Scott, for engaging our students with your interactive crisis simulation and interesting lecture on corporate PR. We were so happy to have you back in person! | D13: Photo | E13: Other | F13: 292 | G13: 17 | H13: 0.05821918 | I13: 4 | J13: 0.01369863 | K13: 1
A14: 09/23/2021 | B14: https://www.linkedin.com/feed/update/urn:li:activity:6846787774390013952 | C14: Yesterday Idil Cakim, Senior VP of Research and Insights at Audacy, Inc., joined Patrick Ford's Crisis Communications class to share an insightful lecture about the power of audio and how it is synonymous with crisis preparation! Thank you for speaking with our students, Idil! | D14: Photo | E14: Other | F14: 4744 | G14: 266 | H14: 0.056070827 | I14: 95 | J14: 0.020025294 | K14: 1
A15: 09/24/2021 | B15: https://www.linkedin.com/feed/update/urn:li:activity:6847203790987239424 | C15: Throughout #HispanicHeritageMonth, we will be highlighting some of our powerful Hispanic and Latinx alumni and current students! Today, we’re spotlighting Isabel Ferrand, University of Florida PR student and 2021-2022 UF Hispanic Public Relations Student Association secretary. Learn more about Isabel’s journey and what Hispanic Heritage Month means to her! | D15: Photo | E15: Student engagement | F15: 197 | G15: 9 | H15: 0.04568528 | I15: 4 | J15: 0.020304568 | K15: 1
A16: 44469 | B16: https://www.linkedin.com/feed/update/urn:li:activity:6849339889574535169 | C16: Marie Gallo Dyak, President and CEO of Entertainment Industries Council, Inc., joined Vanessa Wakeman's Diverse Voices class on Tuesday to talk about mental health and social issues in the entertainment industry, and their relation to DE&I. Thank you, Marie, for sharing your insight with our students! | D16: Photo | E16: Other | F16: 112 | G16: 4 | H16: 0.035714287 | I16: 3 | J16: 0.026785715 | K16: 0
A17: 44469 | B17: https://www.linkedin.com/feed/update/urn:li:activity:6849427061359038464 | C17: Chuck Wallington, Ph.D., EVP and Chief Marketing & Communications Officer at Cone Health, and James D. Harris, Senior Marketing Manager at McKesson, spoke to Patrick Ford's Crisis Communications & Corporate Reputation classes & UF PRSSA yesterday. Thank you, Chuck and James, for engaging our students with meaningful discussion! | D17: Photo | E17: Other | F17: 2034 | G17: 160 | H17: 0.078662731 | I17: 56 | J17: 0.027531957 | K17: 1
A18: 10/01/2021 | B18: https://www.linkedin.com/feed/update/urn:li:activity:6849804220871254016 | C18: Annabel Hardin, Managing Director of Digital Content at LDWW, spoke to Jeannie Clary's UF Gator Club Internship class yesterday! She discussed content development and how to stay current in the evolving world of social media. Thank you, Annabel, for connecting with our students through an engaging Q&A session! | D18: Photo | E18: Other | F18: 91 | G18: 2 | H18: 0.021978023 | I18: 0 | J18: 0 | K18: 1
A19: 10/01/2021 | B19: https://www.linkedin.com/feed/update/urn:li:activity:6849795901351829504 | C19: Tyler Lewis, Director of Coalition Communications & Research at The Leadership Conference on Civil and Human Rights, joined Angela Bradbery's Public Interest Communications class yesterday to give helpful career advice to those seeking a career in PIC. Thank you, Tyler, for sharing your professional insight with our students! | D19: Photo | E19: Other | F19: 91 | G19: 1 | H19: 0.010989011 | I19: 1 | J19: 0.010989011 | K19: 0
A20: 10/01/2021 | B20: https://www.linkedin.com/feed/update/urn:li:activity:6849740262525300736 | C20: We are highlighting some of our powerful Hispanic and Latinx alumni throughout #HispanicHeritageMonth! Today, we’re spotlighting Gabriela Balayla, News Monitoring Coordinator at Amazon, University of Florida PR alumna and UF Hispanic Public Relations Student Association's founding president. Learn more about Gaby's journey and what Hispanic Heritage Month means to her! | D20: Photo | E20: Other | F20: 1202 | G20: 115 | H20: 0.095673874 | I20: 64 | J20: 0.053244591 | K20: 0
A21: 10/04/2021 | B21: https://www.linkedin.com/feed/update/urn:li:activity:6850877036806848512 | C21: Check out the video below of University of Florida PR student and UF Hispanic Public Relations Student Association President Martina Vargas, where she presented at the Museum of Public Relations’ event on Sept. 21 that celebrated Latino PR history. We’re so proud of you, Martina! 🐊 | D21: Video | E21: Student engagement | F21: 89 | G21: 5 | H21: 0.056179777 | I21: 2 | J21: 0.02247191 | K21: 0
A22: 10/05/2021 | B22: https://www.linkedin.com/feed/update/urn:li:activity:6851260778364968960 | C22: Today, Sofia Andrade, Co-Culture Executive Editor and Co-Training Director at The Harvard Crimson, spoke to Angela Bradbery's Public Interest Communications class to give advice to students interested in activism: "Just start." Thank you, Sofia, for speaking with our students! | D22: Photo | E22: Other | F22: 142 | G22: 9 | H22: 0.063380279 | I22: 7 | J22: 0.049295776 | K22: 1
A23: 10/05/2021 | B23: https://www.linkedin.com/feed/update/urn:li:activity:6851259732372656129 | C23: Today, Adrianne C. Smith, Chief Diversity and Inclusion Officer at FleishmanHillard, joined Vanessa Wakeman's Diverse Voices class to talk about diversity, equity and inclusion in the workplace. Thank you, Adrianne, for sharing your insight and engaging with our students! | D23: Photo | E23: Other | F23: 432 | G23: 8 | H23: 0.018518519 | I23: 5 | J23: 0.011574074 | K23: 0
A24: 10/05/2021 | B24: https://www.linkedin.com/feed/update/urn:li:activity:6851156611478630400 | C24: Meet our PR Student Assistants! ✨ We’re so excited to have Marium Abdulhussein, Courtney B., Tammy N. and Sophia Lopez on our team this year. They’re here to help our department and students with content creation, department campaigns and everything in between! If you have any questions, email us at pur-asst@jou.ufl.edu or stop by our office at Weimer 2085! | D24: Photo | E24: Student engagement | F24: 943 | G24: 92 | H24: 0.097560972 | I24: 56 | J24: 0.059384942 | K24: 1
A25: 10/07/2021 | B25: https://www.linkedin.com/feed/update/urn:li:activity:6851976044040351744 | C25: Today, Zeina El-Dana, Founder and CEO of Z7 Communications, spoke to Vanessa Wakeman's Ethics & Professional Responsibility class to discuss the creation of her company and cross-cultural ethics in PR. Thank you, Zeina, for sharing your helpful advice with our students! | D25: Photo | E25: Other | F25: 124 | G25: 5 | H25: 0.040322579 | I25: 2 | J25: 0.016129032 | K25: 1
A26: 10/07/2021 | B26: https://www.linkedin.com/feed/update/urn:li:activity:6851971111417204736 | C26: Today, University of Florida alumnae Gabriela Balayla, News Monitoring Coordinator at Amazon, and Gisselle García, Corporate Associate at Golin, joined Marcia Ph.D., APR's PR Principles class to discuss their post-grad experiences and the lasting impact of the UF Hispanic Public Relations Student Association. Thanks, Gaby and Gisselle! #GoGators | D26: Photo | E26: Other | F26: 537 | G26: 45 | H26: 0.083798885 | I26: 18 | J26: 0.033519555 | K26: 0
A27: 10/07/2021 | B27: https://www.linkedin.com/feed/update/urn:li:activity:6851942725424705536 | C27: Alison Cahill Lubert, Vice President of Corporate Communications at Green Dot Corporation and University of Florida alumna, joined Patrick Ford’s Corporate Reputation class yesterday to discuss rebuilding reputation from the inside out! Thank you, Alison, for engaging our students and sharing your expertise! | D27: Photo | E27: Other | F27: 3718 | G27: 134 | H27: 0.036040884 | I27: 80 | J27: 0.021516945 | K27: 1
A28: 10/08/2021 | B28: https://www.linkedin.com/feed/update/urn:li:activity:6852244640502960128 | C28: We are highlighting some of our powerful Hispanic and Latinx students throughout #HispanicHeritageMonth! Today, we’re spotlighting Dylan Rush, University of Florida PR student and 2021-2022 UF Hispanic Public Relations Student Association public relations director. Learn more about Dylan’s journey and what Hispanic Heritage Month means to him! | D28: Photo | E28: Student engagement | F28: 156 | G28: 10 | H28: 0.064102568 | I28: 5 | J28: 0.032051284 | K28: 1
A29: 10/12/2021 | B29: https://www.linkedin.com/feed/update/urn:li:activity:6853794502746931200 | C29: Today, Joe Cohen, Chief Marketing & Communications Officer at AXIS (AXIS Capital), & Anna Kukowski, Head of AXIS Re/Enterprise Marketing & Communications, joined Patrick Ford's Corporate Communication Essentials class! Thank you, Joe & Anna, for discussing how major corporations engage with stakeholders in reporting financial results. | D29: Photo | E29: Other | F29: 2779 | G29: 171 | H29: 0.061532926 | I29: 66 | J29: 0.023749551 | K29: 3
... A45: 10/28/2021 | B45: https://www.linkedin.com/feed/update/urn:li:activity:6859488080307466240 | C45: Kate Bullinger, CEO of United Minds, a Weber Shandwick consultancy, and Anthea Hoyle, EVP, spoke to Patrick Ford's Corporate Reputation class yesterday about what matters to employees in a post-2020 world. Thank you, Kate and Anthea, for engaging our students with an insightful presentation and exercise! | D45: Photo | E45: Other | F45: 1060 | G45: 80 | H45: 0.075471699 | I45: 38 | J45: 0.035849057 | K45: 1

Sheet Post-Level Metrics_FB
A1: Date | B1: URL Link | C1: Copy | D1: Post Type | E1: Post Topic | F1: Impressions | G1: Engagements | H1: Engagement Rate | I1: Link Clicks | J1: Click-Through Rate | K1: Shares
A2: 44378.474 | B2: https://www.facebook.com/UFPublicRelations/posts/779923026013441 | C2: Congratulations to Adjunct Prof. Linda Rutherford for being named the Executive Vice President of People & Communications at Southwest Airlines and expanding her role as Chief Communications Officer! 🎉 We’re so proud of everything you've achieved! 🐊 | D2: Status | E2: Faculty | F2: 222 | G2: 33 | H2: =G2/F2 -> 0.14864865 | I2: N/A | J2: N/A | K2: 0
A3: 44383.608 | B3: https://www.facebook.com/UFPublicRelations/posts/782860775719666 | C3: Congratulations, Dr. Moon J. Lee! We are so happy for you and wish you all the best in your new role. 🎉 | D3: Photo | E3: Faculty | F3: 223 | G3: 28 | H3: =G3/F3 -> 0.12556054 | I3: N/A | J3: N/A | K3: 0
A4: 44420.6 | B4: https://www.facebook.com/UFPublicRelations/posts/803886856950391 | C4: We’re looking for a PR student assistant to join our team this fall! Duties range from content creation to event planning. Applications are due August 30 and can be found here: bit.ly/PRStudentAsst | D4: Photo and Link | E4: Student Engagement | F4: 173 | G4: 12 | H4: =G4/F4 -> 0.069364162 | I4: 2 | J4: =I4/F4 -> 0.011560694 | K4: 0
A5: 44425.362 | B5: https://www.facebook.com/UFPublicRelations/posts/806527936686283 | C5: Don't miss out on the first segment of The LAGRANT Foundation Leadership Legacy Seminar Series featuring Omnicom PR Group CEO Chris Foster on Sept. 13! Find more information about this great opportunity below and visit http://conta.cc/2XxeH5c! | D5: Photo and Link | E5: Other | F5: 118 | G5: 4 | H5: =G5/F5 -> 0.033898305 | I5: 0 | J5: =I5/F5 -> 0 | K5: 0
A6: 44431.438 | B6: https://www.facebook.com/UFPublicRelations/posts/810024879669922 | C6: Welcome back, Gators! We are so happy to have you back on campus. Your favorite department is now on TikTok, and Dr. D is here to answer a few important questions. ——— Q: Can I still add a class? A: Yes, submit a course request by the end of drop/add, Aug. 27. Q: Can I still apply to earn credit for my internship? A: Yes, applications for the internship course (PUR4940) are due Aug. 27 at noon. Q: Are there any new internship opportunities? A: Yes, students can apply for a PAID two-credit social media internship with the UF Gator Clubs. Applications due Aug. 25. ——— Check out the link in our bio for more information and email us (pur-asst@jou.ufl.edu) if you have any questions (and follow us on TikTok 😉). Go Gators! Let’s make this the best semester yet. ✨ | D6: Video | E6: Student Engagement | F6: 211 | G6: 33 | H6: =G6/F6 -> 0.1563981 | I6: N/A | J6: N/A | K6: 0
A7: 44438.32 | B7: https://www.facebook.com/UFPublicRelations/posts/814008902604853 | C7: Introducing the 2021-2022 Bateman Team! Led by Professor Leticia Solaun, Nicholas Suriel, Arianna Meekins, Blair Colson, Jessica Martinez and Alyssa Wiles were selected to compete in this year’s @PRSSANational Bateman Case Study Competition. Congratulations, and best of luck to this talented group! #GoGators | D7: Photo | E7: Student Engagement | F7: 1119 | G7: 142 | H7: =G7/F7 -> 0.12689902 | I7: N/A | J7: N/A | K7: 3
A8: 44442 | B8: https://www.facebook.com/UFPublicRelations/posts/816454242360319 | C8: Meet the UF Public Relations Department! Everywhere you look, our faculty and staff members are here to lend a helping hand. We’re so happy to have you all back on campus! Missing Dr. Mary Ann Ferguson, Dr. Rita Men and Professor Vanessa Wakeman. | D8: Video | E8: Faculty | F8: 254 | G8: 30 | H8: 0.1181 | I8: N/A | J8: N/A | K8: 1
A9: 44448 | B9: https://www.facebook.com/UFPublicRelations/posts/820043655334711 | C9: Check out this dynamic duo! Dr. Myiah Hutchens has officially been named Associate Chair of the Public Relations Department! Dr. Hutchens will maintain her current course load while also assisting Department Chair Dr. Marcia DiStaso with departmental responsibilities. Congratulations, Dr. Hutchens! We are so happy to have you in this new role. #GoGators | D9: Photo | E9: Faculty | F9: 831 | G9: 312 | H9: 0.3755 | I9: N/A | J9: N/A | K9: 3
A10: 44454 | B10: https://www.facebook.com/UFPublicRelations/posts/823921051613638 | C10: Today marks the beginning of #HispanicHeritageMonth! HPRSA President Martina Vargas, Vice President Elaina Sanchez and Director of Chapter Development Ryan Montoto came together to speak about the importance of HPRSA, the organization’s significance to the PR industry and what this month means to them. Throughout the month, the department will be featuring some of our inspiring Hispanic and Latinx student leaders, past and present, in celebration of their history and culture. | D10: Video | E10: Other | F10: 141 | G10: 15 | H10: 0.1064 | I10: N/A | J10: N/A | K10: 0
A11: 44459 | B11: https://www.facebook.com/UFPublicRelations/posts/826739404665136 | C11: Throughout #HispanicHeritageMonth, we will be highlighting some of our powerful Hispanic and Latinx alumni and current students! First, we’re spotlighting Catalina Santana Hernandez, account coordinator at BCW Global, UF College of Journalism and Communications 2021 graduate and 2020-2021 UF HPRSA president. Catalina will be part of The Museum of Public Relations’ panel “The Latino Influence and Impact on the Public Relations Profession” tomorrow, Sept. 21, at 6 p.m. Register for free to hear from her, current UF HPRSA president Martina Vargas and past and current Advisory Council members. http://bit.ly/MoPRHHM | D11: Photo and Link | E11: Other | F11: 262 | G11: 10 | H11: 0.0382 | I11: 1 | J11: =I11/F11 -> 0.0038167939 | K11: 1
A12: 44463 | B12: https://www.facebook.com/UFPublicRelations/posts/829219884417088 | C12: Throughout #HispanicHeritageMonth, we will be highlighting some of our powerful Hispanic and Latinx alumni and current students! Today, we’re spotlighting Isabel Ferrand, University of Florida PR student and 2021-2022 UF HPRSA secretary. Learn more about Isabel’s journey and what Hispanic Heritage Month means to her! | D12: Photo | E12: Other | F12: 911 | G12: 121 | H12: 0.1328 | I12: N/A | J12: N/A | K12: 2
A13: 44470 | B13: https://www.facebook.com/UFPublicRelations/posts/833591493979927 | C13: We are highlighting some of our powerful Hispanic and Latinx alumni throughout #HispanicHeritageMonth! Today, we’re spotlighting Gabriela Balayla, News Monitoring Coordinator at Amazon.com, University of Florida PR alumna and UF HPRSA's founding president. Learn more about Gaby's journey and what Hispanic Heritage Month means to her! | D13: Photo | E13: Other | F13: 301 | G13: 10 | H13: 0.0332 | I13: N/A | J13: N/A | K13: 0
A14: 44474 | B14: https://www.facebook.com/UFPublicRelations/posts/835701007102309 | C14: Meet our PR Student Assistants! ✨ We’re so excited to have Marium, Courtney, Tammy and Sophia on our team this year. They’re here to help our department and students with content creation, department campaigns and everything in between! If you have any questions, email us at pur-asst@jou.ufl.edu or stop by our office at Weimer 2085! | D14: Video | E14: Faculty | F14: 186 | G14: 13 | H14: 0.0699 | I14: N/A | J14: N/A | K14: 2
A15: 44477 | B15: https://www.facebook.com/UFPublicRelations/posts/837475813591495 | C15: We are highlighting some of our powerful Hispanic and Latinx students throughout #HispanicHeritageMonth! Today, we’re spotlighting Dylan Rush, University of Florida PR student and 2021-2022 HPRSA public relations director. Learn more about Dylan’s journey and what Hispanic Heritage Month means to him! | D15: Photo | E15: Other | F15: 94 | G15: 2 | H15: 0.0213 | I15: N/A | J15: N/A | K15: 0
A16: 44480 | B16: https://www.facebook.com/UFPublicRelations/posts/839481926724217 | C16: Attention, students! FPRA Gainesville is forming a new student chapter at UF College of Journalism and Communications! Don’t miss this incredible opportunity to network, develop your professional skills and be one of the founding members of this organization! FPRA is hosting an interest meeting this Wednesday, October 13, at 6 p.m. on Zoom. Register here to learn more: https://bit.ly/FPRAInterest. | D16: Photo and Link | E16: Student Engagement | F16: 114 | G16: 9 | H16: 0.0789 | I16: 4 | J16: =I16/F16 -> 0.035087719 | K16: 0
A17: 44484 | B17: https://www.facebook.com/UFPublicRelations/posts/842079249797818 | C17: To wrap up the last day of #HispanicHeritageMonth, we're spotlighting Marta Isabel Sanchez, associate partner of marketing for HBO Max Latin America at WarnerMedia, University of Florida PR alumna and UF HPRSA's founding director of PR. Learn more about Marta's journey and what Hispanic Heritage Month means to her! Thank you to the powerful Hispanic and Latinx students & alumni we highlighted throughout #HispanicHeritageMonth! | D17: Photo | E17: Other | F17: 674 | G17: 109 | H17: 0.1617 | I17: N/A | J17: N/A | K17: 2
A18: 44491 | B18: https://www.facebook.com/UFPublicRelations/posts/846215492717527:0 | C18: UF Public Relations Department | D18: Photo | E18: Other | F18: 3 | G18: 3 | H18: 1 | I18: N/A | J18: N/A | K18: 0
A19: 44491 | B19: https://www.facebook.com/UFPublicRelations/posts/846335259372217 | C19: We're hiring! We have an open position and are looking to hire two tenure-track assistant professors. We'd love for you to be part of our team! For more information and to apply: http://bit.ly/PRAsstProfessor | D19: Photo and Link | E19: Faculty | F19: 242 | G19: 21 | H19: 0.0868 | I19: 12 | J19: =I19/F19 -> 0.049586777 | K19: 1
A20: 44496 | B20: https://www.facebook.com/UFPublicRelations/posts/849054045767005 | C20: Congratulations to our Department Chair Dr. Marcia DiStaso for winning the 2021 Institute for Public Relations Pathfinder Award, a lifetime achievement award for individuals who've made significant and sustained contributions to the knowledge and practice of PR through published research! We're so proud of you! What an amazing and well-deserved accomplishment! 👏 | D20: Photo | E20: Faculty | F20: 963 | G20: 105 | H20: 0.109 | I20: N/A | J20: N/A | K20: 4
A21: 44497 | B21: https://www.facebook.com/UFPublicRelations/posts/849724735699936 | C21: Interested in exploring different areas of public relations? We’re excited to offer one-credit electives taught by experienced professionals in Spring 2022! Swipe to learn more about each course and check out the full course schedule on ONE.UF for more details. If a class is full or you are unable to add it yourself, please submit a course request here: https://www.jou.ufl.edu/current-students/current-undergraduate/current-academics/courserequestforms/ | D21: Photo and Link | E21: Student Engagement | F21: 311 | G21: 42 | H21: 0.135 | I21: 1 | J21: =I21/F21 -> 0.0032154341 | K21: 0
A22: 44498 | B22: https://www.facebook.com/UFPublicRelations/posts/850448292294247 | C22: Still working on your Spring 2022 schedule? Check out PUR4905: CJCxNYC Independent Study! Click to learn more and make sure to join the information session this Monday, Nov. 1 from 3:30 - 4:15 p.m. The zoom link for those that are interested in attending, can be found here: https://linktr.ee/ufprdepartment | D22: Photo and Link | E22: Student Engagement | F22: 144 | G22: 10 | H22: 0.0694 | I22: 0 | J22: =I22/F22 -> 0 | K22: 0

Sheet Post-Level Metrics_IG
A1: Date | B1: URL Link | C1: Copy | D1: Post Type | E1: Post Topic | F1: Reach | G1: Engagements | H1: Engagement Rate
A2: 44431 | B2: https://www.instagram.com/p/CS7ND44D5OM/ | C2: Welcome back, Gators! We are so happy to have you back on campus. Your favorite department is now on TikTok, and Dr. D is here to answer a few important questions. _x0014_ _x0014_ _x0014_ Q: Can I still add a class? A: Yes, submit a course request by the end of drop/add, Aug. 27. Q: Can I still apply to earn credit for my internship? A: Yes, applications for the internship course (PUR4940) are due Aug. 27 at noon. Q: Are there any new internship opportunities? A: Yes, students can apply for a PAID two-credit social media internship with the UF Gator Clubs. Applications due Aug. 25. _x0014_ _x0014_ _x0014_ Check out the link in our bio for more information and email us (pur-asst@jou.ufl.edu) if you have any questions (and follow us on TikTok =Ø Þ). Let_x0019_ s make this the best semester yet! (' #UFCJC #FirstDayUF #GoGators | D2: Video | E2: Program Courses | F2: 671 | G2: 114 | H2: 0.1709
A3: 44438 | B3: https://www.instagram.com/p/CTM8K0rLJBR/ | C3: Introducing the 2021-2022 Bateman Team! Led by Professor Leticia Solaun, Nicholas Suriel, Arianna Meekins, Blair Colson, Jessica Martinez and Alyssa Wiles were selected to compete in this year s @PRSSANational Bateman Case Study Competition. Congratulations, and best of luck to this talented group! #GoGators Led by Professor Leticia Solaun, Nicholas Suriel, Arianna Meekins, Blair Colson, Jessica Martinez and Alyssa Wiles were selected to compete in this year_x0019_ s @PRSSANational Bateman Case Study Competition. Congratulations, and best of luck to this talented group! #GoGators =Ø Ü | D3: Photo | E3: Student Engagement | F3: 730 | G3: 161 | H3: 0.2224
A4: 44442 | B4: https://www.instagram.com/p/CTXVd_aDGb1/ | C4: Meet the UF Public Relations Department! | D4: Video | E4: Faculty | F4: 892 | G4: 123 | H4: 0.183
A5: 44447 | B5: https://www.instagram.com/p/CTkqW9kLFlC/ | C5: We hope you were able to stop by and meet some of our amazing student organizations at CJC Involvement Day today! If not, reach out to them through social media about getting involved. We will be posting more information about each group in the coming weeks so be on the lookout! | D5: Photo | E5: Student Engagement | F5: 454 | G5: 94 | H5: 0.1399
A6: 44448 | B6: https://www.instagram.com/p/CTnGxbIL6EL/ | C6: Check out this dynamic duo! Dr. Myiah Hutchens has officially been named Associate Chair of the Public Relations Department! Dr. Hutchens will maintain her current course load while also assisting Department Chair Dr. Marcia DiStaso with departmental responsibilities. Congratulations, Dr. Hutchens! We are so happy to have you in this new role. #GoGators | D6: Photo | E6: Faculty | F6: 619 | G6: 166 | H6: 0.247
A7: 44454 | B7: https://www.instagram.com/p/CT3BZFejfej/ | C7: Celebrating Hispanic Heritage Month with @ufhprsa Today marks the beginning of #HispanicHeritageMonth! @ufhprsa President Martina Vargas, Vice President Elaina Sanchez and Director of Chapter Development Ryan Montoto came together to speak about the importance of HPRSA, the organization’s significance to the PR industry and what this month means to them. Throughout the month, the department will be featuring some of our inspiring Hispanic and Latinx student leaders, past and present, in celebration of their history and culture. | D7: Video | E7: Student Engagement | F7: 730 | G7: 60 | H7: 0.0893
A8: 44456 | B8: https://www.instagram.com/p/CT79GucjC2j/ | C8: Meet the Alpha PRoductions Management Team! Applications are now open and due this Monday, Sept. 20! 🙌 To apply, email your resume and cover letter (portfolio/writing samples are optional) to ufalphaproductions@gmail.com. Feel free to reach out to @alphaproductions with any questions! Meet the Alpha PRoductions Management Team! Applications are now open and due this Monday, Sept. 20! 🙌 To apply, email your resume and cover letter (portfolio/writing samples are optional) to ufalphaproductions@gmail.com. Feel free to reach out to @alphaproductions with any questions! | D8: Video | E8: Student Engagement | F8: 280 | G8: 37 | H8: 0.0551
A9: 44459 | B9: https://www.instagram.com/p/CUDZbv_rG0A/ | C9: Throughout #HispanicHeritageMonth, we will be highlighting some of our powerful Hispanic and Latinx alumni and current students! First, we’re spotlighting Catalina Santana Hernandez, account coordinator at BCW Global, @ufjschool 2021 graduate and 2020-2021 @ufhprsa president. Swipe to learn more about Catalina’s journey and what Hispanic Heritage Month means to her. Catalina will be part of @prmuseum’s panel “The Latino Influence and Impact on the Public Relations Profession” tomorrow, Sept. 21, at 6 p.m. Register for free through the link in our bio to hear from her, current @ufhprsa president Martina Vargas and past and current Advisory Council members. | D9: Photo | E9: Student Engagement | F9: 401 | G9: 100 | H9: 0.1488
A10: 44462 | B10: https://www.instagram.com/p/CULacKBDnNT/ | C10: Meet the UF Asian Public Relations Student Association Executive Board Attend @ufaprsa’s first GBM of the semester on Tuesday, Sept. 28 at 6:15 p.m. (link in bio)! 🌟 Learn about the exciting opportunities APRSA offers to help you grow professionally and personally! | D10: Video | E10: Student Engagement | F10: 247 | G10: 28 | H10: 0.0416
A11: 44463 | B11: https://www.instagram.com/p/CUNiKtOLTp_/ | C11: Throughout #HispanicHeritageMonth, we will be highlighting some of our powerful Hispanic and Latinx alumni and current students! Today, we’re spotlighting Isabel Ferrand, @uflorida PR student and 2021-2022 @ufhprsa secretary. Swipe to learn more about Isabel’s journey and what Hispanic Heritage Month means to her. | D11: Photo | E11: Student Engagement | F11: 371 | G11: 73 | H11: 0.1086
A12: 44467 | B12: https://www.instagram.com/p/CUYHZ1Ijdws/ | C12: Meet the UF Black Public Relations Student Society Executive Board Get involved with @ufbprss by clicking the link in their Instagram bio and attending the next GBM on Thursday, Oct. 14! Check out BPRSS to learn more about the incredible opportunities to connect with peers and develop your professional skills. | D12: Video | E12: Student Engagement | F12: 580 | G12: 49 | H12: 0.0729
A13: 44470 | B13: https://www.instagram.com/p/CUfgFelLgfH/ | C13: We are highlighting some of our powerful Hispanic and Latinx students and alumni throughout #HispanicHeritageMonth! Today, we’re spotlighting @gabybalayla, news monitoring coordinator at @amazon, @uflorida PR alumna and @ufhprsa’s founding president. Learn more about Gaby's journey and what Hispanic Heritage Month means to her! | D13: Photo | E13: Student Engagement | F13: 661 | G13: 127 | H13: 0.1843
... A24: 44498 | B24: https://www.instagram.com/p/CVog2qhNpIv/ | C24: Still working on your Spring 2022 schedule? Check out PUR4905: CJCxNYC Independent Study! Swipe to learn more and make sure to join the information session this Monday, Nov. 1 from 3:30 - 4:15 p.m. The zoom link is in our bio for those that are interested in attending! 👏🏼 | D24: Photo | E24: Program Courses | F24: 380 | G24: 57 | H24: 0.0827

Sheet Extra Tables
B2: Twitter | C2: LinkedIn | F2: Twitter | G2: Facebook | H2: Instagram
